BEGIN:VCALENDAR
METHOD:PUBLISH
VERSION:2.0
PRODID:-//CKJ//DE
BEGIN:VEVENT
SUMMARY:Mädchen-Weekend
UID:1120@ckj.ch
STATUS:CONFIRMED
DTSTART;VALUE=DATE:20260508
DTEND;VALUE=DATE:20260511
DESCRIPTION:
URL:https://ckj.ch/ausblick/index.php?Gruppe=Mädchen%20Schweiz
END:VEVENT
END:VCALENDAR