BEGIN:VCALENDAR
METHOD:PUBLISH
VERSION:2.0
PRODID:-//CKJ//DE
BEGIN:VEVENT
SUMMARY:Christkönigstreffen
UID:1118@ckj.ch
STATUS:CONFIRMED
DTSTART;VALUE=DATE:20261023
DTEND;VALUE=DATE:20261026
DESCRIPTION:<h4>Quo vadis?- Herr was willst Du, dass ich tun soll?&raquo; Vielleicht hast Du dir auch schon die Frage gestellt, wie Du deinem Leben einen Push in die richtige Richtung geben kannst oder bist schon auf dem Weg?</h4> \n<h4>Genau dann ist dieses Wochenende vom 23.10. bis 25.10.2026 für Dich. Hier erwarten Dich viele junge Menschen, Verbundenheit im Glauben und viel Zeit mit Gott.</h4><h4>\nWeitere Informationen gibt es auf der Webseite: <a href="http://christkoenigstreffen.online">http://christkoenigstreffen.online</a></h4>
URL:https://ckj.ch/ausblick/index.php?Gruppe=Allgemein
END:VEVENT
END:VCALENDAR